BEGIN:VCALENDAR
VERSION:2.0
BEGIN:VEVENT
DTSTART:20220209T113000
DTEND:
LOCATION:22  Pacific Parade, Manly 
DESCRIPTION;ENCODING=QUOTED-PRINTABLE:=
Open House: 22  Pacific Parade, Manly =0D=0A09-Feb-2022 11:30AM to 11:45AM=0D=0Ahttp://www.clarkeandhumel.com.auhttps://www.clarkeandhumel.com.au/landlord/recently-leased/22-pacific-parade/
SUMMARY:Open House: 22  Pacific Parade, Manly 
PRIORITY:2
END:VEVENT
END:VCALENDAR
