BEGIN:VCALENDAR
VERSION:2.0
BEGIN:VEVENT
DTSTART:20250201T100000
DTEND:20250201T101500
LOCATION:111/2-4  Wentworth Street, Manly 
DESCRIPTION;ENCODING=QUOTED-PRINTABLE:=
Open House: 111/2-4  Wentworth Street, Manly =0D=0A01-Feb-2025 10:00AM to 10:15AM=0D=0Ahttp://www.clarkeandhumel.com.auhttps://www.clarkeandhumel.com.au/renting/for-lease/1112-4-wentworth-street/
SUMMARY:Open House: 111/2-4  Wentworth Street, Manly 
PRIORITY:2
END:VEVENT
END:VCALENDAR
