BEGIN:VCALENDAR
VERSION:2.0
BEGIN:VEVENT
DTSTART:20260523T101500
DTEND:
LOCATION:1/55 Crown Road, Queenscliff
DESCRIPTION;ENCODING=QUOTED-PRINTABLE:=
Auction: 1/55 Crown Road, Queenscliff=0D=0A23/5/2026 10:15:00 am=0D=0Ahttp://www.clarkeandhumel.com.auhttps://clarkeandhumel.com.au/buying/for-sale/155-crown-road/
SUMMARY:Auction: 1/55 Crown Road, Queenscliff
PRIORITY:2
END:VEVENT
END:VCALENDAR
