BEGIN:VCALENDAR
VERSION:2.0
BEGIN:VEVENT
DTSTART:20260424T110000
DTEND:20260424T113000
LOCATION:10 Moore Street, Clontarf
DESCRIPTION;ENCODING=QUOTED-PRINTABLE:=
Open House: 10 Moore Street, Clontarf=0D=0A24-Apr-2026 11:00AM to 11:30AM=0D=0Ahttp://www.clarkeandhumel.com.auhttps://www.clarkeandhumel.com.au/buying/for-sale/10-moore-street
SUMMARY:Open House: 10 Moore Street, Clontarf
PRIORITY:2
END:VEVENT
END:VCALENDAR
