BEGIN:VCALENDAR
VERSION:2.0
BEGIN:VEVENT
DTSTART:20260502T113000
DTEND:
LOCATION:10/108 Soldiers Avenue, Freshwater
DESCRIPTION;ENCODING=QUOTED-PRINTABLE:=
Auction: 10/108 Soldiers Avenue, Freshwater=0D=0A2/5/2026 11:30:00 am=0D=0Ahttp://www.clarkeandhumel.com.auhttps://www.clarkeandhumel.com.au/buying/for-sale/10108-soldiers-avenue
SUMMARY:Auction: 10/108 Soldiers Avenue, Freshwater
PRIORITY:2
END:VEVENT
END:VCALENDAR
