BEGIN:VCALENDAR
VERSION:2.0
BEGIN:VEVENT
DTSTART:20260311T100000
DTEND:20260311T103000
LOCATION:4/6 Addison Road, Manly
DESCRIPTION;ENCODING=QUOTED-PRINTABLE:=
Open House: 4/6 Addison Road, Manly=0D=0A11-Mar-2026 10:00AM to 10:30AM=0D=0Ahttp://www.clarkeandhumel.com.auhttps://www.clarkeandhumel.com.au/buying/for-sale/46-addison-road?utm_source=todayacquire&utm_medium=social&utm_campaign=a5f0592f-5887-499c-b8e0-e2421a7ee122&fbclid=IwZXh0bgNhZW0BMABhZGlkAas1R4gcq6pzcnRjBmFwcF9pZAo2NjI4NTY4Mzc5AAEeq1YqdDFP6cevjh-hoMtn_T7VpOb7XuuEU73AvgLsDJaB8LL7MqeCo-R9GNA_aem_yDxKb_r8Ft31n2X3HGMkYQ
SUMMARY:Open House: 4/6 Addison Road, Manly
PRIORITY:2
END:VEVENT
END:VCALENDAR
